BEGIN:VCALENDAR
VERSION:2.0
PRODID:-//wp-events-plugin.com//7.2.3.1//EN
TZID:America/Toronto
X-WR-TIMEZONE:America/Toronto
BEGIN:VEVENT
UID:164@thecentre.church
DTSTART;TZID=America/Toronto:20260403T103000
DTEND;TZID=America/Toronto:20260403T120000
DTSTAMP:20260327T234632Z
URL:https://thecentre.church/events/good-friday-service-2/
SUMMARY:Good Friday Service
DESCRIPTION:Join us on Good Friday as we worship together with other congre
 gations from Lindsay.
ATTACH;FMTTYPE=image/jpeg:https://thecentre.church/wp-content/uploads/Gath
 ering_GoodFriday2026.webp
LOCATION:LEX\, 50 Exhibition Drive\, Lindsay\, Ontario\, Canada
X-APPLE-STRUCTURED-LOCATION;VALUE=URI;X-ADDRESS=50 Exhibition Drive\, Linds
 ay\, Ontario\, Canada;X-APPLE-RADIUS=100;X-TITLE=LEX:geo:0,0
END:VEVENT
BEGIN:VTIMEZONE
TZID:America/Toronto
X-LIC-LOCATION:America/Toronto
BEGIN:DAYLIGHT
DTSTART:20260308T030000
TZOFFSETFROM:-0500
TZOFFSETTO:-0400
TZNAME:EDT
END:DAYLIGHT
END:VTIMEZONE
END:VCALENDAR